BEGIN:VCALENDAR
VERSION:2.0
PRODID:-//Contratero//ES
CALSCALE:GREGORIAN
METHOD:PUBLISH
BEGIN:VEVENT
UID:CM 50/21@contratero.es
DTSTAMP:20260424T174609Z
DTSTART:20211119T235959
DTEND:20211120T005959
SUMMARY:Cierre: Servicio de diseño\, desarrollo y mantenimiento del
DESCRIPTION:Servicio de diseño\, desarrollo y mantenimiento del portal web del sistema de monitorización turística de Asturias\\n\\nOrganismo: Sociedad Pública de Gestión y Promoción Turística y Cultural del Principado de Asturias S.A.U.\\n\\nVer en Contratero: https://contratero.es/contracts/CM 50/21
URL:https://contratero.es/contracts/CM 50/21
STATUS:CONFIRMED
BEGIN:VALARM
TRIGGER:-P1D
ACTION:DISPLAY
DESCRIPTION:Recordatorio: Servicio de diseño\, desarrollo
END:VALARM
END:VEVENT
END:VCALENDAR